BEGIN:VCALENDAR
VERSION:2.0
PRODID:-//Saskatoon Triathlon Club - ECPv6.15.20//NONSGML v1.0//EN
CALSCALE:GREGORIAN
METHOD:PUBLISH
X-ORIGINAL-URL:https://www.triathlonsaskatoon.org
X-WR-CALDESC:Events for Saskatoon Triathlon Club
REFRESH-INTERVAL;VALUE=DURATION:PT1H
X-Robots-Tag:noindex
X-PUBLISHED-TTL:PT1H
BEGIN:VTIMEZONE
TZID:America/Regina
BEGIN:STANDARD
TZOFFSETFROM:-0600
TZOFFSETTO:-0600
TZNAME:CST
DTSTART:20230101T000000
END:STANDARD
END:VTIMEZONE
BEGIN:VEVENT
DTSTART;VALUE=DATE:20240107
DTEND;VALUE=DATE:20240325
DTSTAMP:20260421T073157
CREATED:20240226T033243Z
LAST-MODIFIED:20240226T035809Z
UID:10191-1704585600-1711324799@www.triathlonsaskatoon.org
SUMMARY:2024 Winter Swim Lesson
DESCRIPTION:
URL:/training/adult-swim/
CATEGORIES:Blue
END:VEVENT
END:VCALENDAR